BEGIN:VCALENDAR
VERSION:2.0
PRODID:-//BC Association of Community Response Networks - ECPv6.15.18//NONSGML v1.0//EN
CALSCALE:GREGORIAN
METHOD:PUBLISH
X-ORIGINAL-URL:https://bccrns.ca
X-WR-CALDESC:Events for BC Association of Community Response Networks
REFRESH-INTERVAL;VALUE=DURATION:PT1H
X-Robots-Tag:noindex
X-PUBLISHED-TTL:PT1H
BEGIN:VTIMEZONE
TZID:America/Vancouver
BEGIN:DAYLIGHT
TZOFFSETFROM:-0800
TZOFFSETTO:-0700
TZNAME:PDT
DTSTART:20210314T100000
END:DAYLIGHT
BEGIN:STANDARD
TZOFFSETFROM:-0700
TZOFFSETTO:-0800
TZNAME:PST
DTSTART:20211107T090000
END:STANDARD
BEGIN:DAYLIGHT
TZOFFSETFROM:-0800
TZOFFSETTO:-0700
TZNAME:PDT
DTSTART:20220313T100000
END:DAYLIGHT
BEGIN:STANDARD
TZOFFSETFROM:-0700
TZOFFSETTO:-0800
TZNAME:PST
DTSTART:20221106T090000
END:STANDARD
BEGIN:DAYLIGHT
TZOFFSETFROM:-0800
TZOFFSETTO:-0700
TZNAME:PDT
DTSTART:20230312T100000
END:DAYLIGHT
BEGIN:STANDARD
TZOFFSETFROM:-0700
TZOFFSETTO:-0800
TZNAME:PST
DTSTART:20231105T090000
END:STANDARD
END:VTIMEZONE
BEGIN:VEVENT
DTSTART;VALUE=DATE:20221203
DTEND;VALUE=DATE:20221204
DTSTAMP:20260419T063610
CREATED:20220224T184114Z
LAST-MODIFIED:20220714T202159Z
UID:9860-1670025600-1670111999@bccrns.ca
SUMMARY:International Day of Persons with Disabilities
DESCRIPTION:International Day of Persons with Disabilities is on December 3rd.  Proclaimed by the United Nations General Assembly in 1992\, the International Day of Persons with Disabilities (IDPD) has been annually observed on December 3 around the world. Disabled adults must also be acknowledged for their strengths\, and not just for their vulnerabilities. \nAn estimated 14% of the Canadian population lives with some form of disability. Disabilities become increasingly common with age\, ranging from a low of 6.3% of those between the ages of 15 and 29 to a high of 45.7% among those aged 65 and over.  Adults with disabilities may be vulnerable to abuse and neglect. Many disabled adults are lonely and isolated. \nPast themes associated with the International Day of Persons with Disabilities include: \n\nDignity and Justice for all of us\nDecent Work for Persons with Disabilities\nE-Accessibility\nThe Future is Accessible\nEmpowering Persons with Disabilities and Ensuring Inclusiveness and Equality\n\nWhile Government support plays an important role\, community members who care and reach out with assistance can make a big difference in the lives of persons living with disabilities.
URL:https://bccrns.ca/event/international-day-of-persons-with-disabilities-2
CATEGORIES:Featured
END:VEVENT
BEGIN:VEVENT
DTSTART;TZID=America/Vancouver:20221205T100000
DTEND;TZID=America/Vancouver:20221205T110000
DTSTAMP:20260419T063610
CREATED:20221129T225859Z
LAST-MODIFIED:20221129T225859Z
UID:12139-1670234400-1670238000@bccrns.ca
SUMMARY:It's Not Right! Workshop - Revelstoke
DESCRIPTION:It’s Not Right! Neighbours\, Friends & Family for Older Adults \nYou are invited to join us for this dynamic workshop. The workshop teaches people how to recognize warning signs of abuse of older adults and to respond safely and supportively. True to life scenarios are explored to facilitate discussion and to build skills. The agenda will include: \n• Examples of the warning signs/risk factors of adult abuse and learning how to recognize them.\n• Discussions about ageism.\n• Video scenarios of situations of abuse and neglect.\n• Skill building opportunities (how to respond safely/supportively and how to have conversations about suspected abuse). \nCome join us in-person in Revelstoke – everyone is welcome! Email revycrn@gmail.com for more information.
URL:https://bccrns.ca/event/inr-revelstoke
LOCATION:Revelstoke United Church
CATEGORIES:Featured
END:VEVENT
BEGIN:VEVENT
DTSTART;TZID=America/Vancouver:20221206T120000
DTEND;TZID=America/Vancouver:20221206T130000
DTSTAMP:20260419T063610
CREATED:20221117T204615Z
LAST-MODIFIED:20221129T225939Z
UID:12043-1670328000-1670331600@bccrns.ca
SUMMARY:It's Not Right! Workshop - Virtual
DESCRIPTION:You are invited to join us for this dynamic workshop.  The workshop teaches people how to recognize warning signs of abuse of older adults and to respond safely and supportively.  True to life scenarios are explored to facilitate discussion and to build skills.  The agenda will include: \n\nExamples of the warning signs/risk factors of adult abuse and learning how to recognize them.\nDiscussions about ageism.\nVideo scenarios of situations of abuse and neglect.\nSkill building opportunities (how to respond safely/supportively and how to have conversations about suspected abuse).\n\nCome join us – everyone is welcome! Register now or email us for more information. \n 
URL:https://bccrns.ca/event/its-not-right-workshop-3
CATEGORIES:Featured
END:VEVENT
END:VCALENDAR