BEGIN:VCALENDAR
VERSION:2.0
PRODID:-//BC Association of Community Response Networks - ECPv6.15.18//NONSGML v1.0//EN
CALSCALE:GREGORIAN
METHOD:PUBLISH
X-WR-CALNAME:BC Association of Community Response Networks
X-ORIGINAL-URL:https://bccrns.ca
X-WR-CALDESC:Events for BC Association of Community Response Networks
REFRESH-INTERVAL;VALUE=DURATION:PT1H
X-Robots-Tag:noindex
X-PUBLISHED-TTL:PT1H
BEGIN:VTIMEZONE
TZID:America/Vancouver
BEGIN:DAYLIGHT
TZOFFSETFROM:-0800
TZOFFSETTO:-0700
TZNAME:PDT
DTSTART:20200308T100000
END:DAYLIGHT
BEGIN:STANDARD
TZOFFSETFROM:-0700
TZOFFSETTO:-0800
TZNAME:PST
DTSTART:20201101T090000
END:STANDARD
BEGIN:DAYLIGHT
TZOFFSETFROM:-0800
TZOFFSETTO:-0700
TZNAME:PDT
DTSTART:20210314T100000
END:DAYLIGHT
BEGIN:STANDARD
TZOFFSETFROM:-0700
TZOFFSETTO:-0800
TZNAME:PST
DTSTART:20211107T090000
END:STANDARD
BEGIN:DAYLIGHT
TZOFFSETFROM:-0800
TZOFFSETTO:-0700
TZNAME:PDT
DTSTART:20220313T100000
END:DAYLIGHT
BEGIN:STANDARD
TZOFFSETFROM:-0700
TZOFFSETTO:-0800
TZNAME:PST
DTSTART:20221106T090000
END:STANDARD
END:VTIMEZONE
BEGIN:VEVENT
DTSTART;TZID=America/Vancouver:20210420T103000
DTEND;TZID=America/Vancouver:20210420T120000
DTSTAMP:20260423T015414
CREATED:20210326T180829Z
LAST-MODIFIED:20210408T010526Z
UID:6803-1618914600-1618920000@bccrns.ca
SUMMARY:Provincial Learning Event - Keeping Seniors and Vulnerable Adults Safe at the End of Life
DESCRIPTION:Keeping Seniors and Vulnerable Adults Safe at the End of Life\, presented by Jennifer Mallmes\, Registered Community Health Worker\, birth doula and end-of-life care doula/Registered Care Aide. \nThis session will provide insight into how the risk of abuse may increase as a person nears the end of life. \nRegistration is now open. \nParticipants can expect to learn more about the needs of the dying and how to support someone in an appropriate way. \nWe will also discuss the possible areas of abuse\, how to recognize abuse\, and who to call if you are concerned for someone’s safety. \nJennifer Mallmes has spent the last 20 years as a caregiver to persons at the end of life\, beginning of life and the in-between. She is a mother of five and resides in the Lower Mainland of BC. She received her Bachelor of General Studies in Sociology/Gerontology from SFU in 2009 and is currently completing a Master of Arts in Community Studies. She developed the End-of-Life Doula curriculum in partnership with Douglas College and is also a Director of the End-of-Life Care Association of Canada. Jennifer’s passion for quality end of life care inspired her to share her experience and empower others to fully live out their life. \nRegister online now. \nProvincial Learning Events are free webinars that take place on the third Tuesday of the month from 10:30 am to 12 pm. Everyone is welcome. \nView BC CRN’s events calendar. Follow us on Facebook or Twitter\, or email us to receive notifications of upcoming webinars and to receive advance registration information.
URL:https://bccrns.ca/event/provincial-learning-event-keeping-seniors-and-vulnerable-adults-safe-at-the-end-of-life
CATEGORIES:Provincial Learning,Featured
END:VEVENT
END:VCALENDAR