BEGIN:VCALENDAR
VERSION:2.0
PRODID:-//BC Association of Community Response Networks - ECPv6.15.18//NONSGML v1.0//EN
CALSCALE:GREGORIAN
METHOD:PUBLISH
X-WR-CALNAME:BC Association of Community Response Networks
X-ORIGINAL-URL:https://bccrns.ca
X-WR-CALDESC:Events for BC Association of Community Response Networks
REFRESH-INTERVAL;VALUE=DURATION:PT1H
X-Robots-Tag:noindex
X-PUBLISHED-TTL:PT1H
BEGIN:VTIMEZONE
TZID:America/Vancouver
BEGIN:DAYLIGHT
TZOFFSETFROM:-0800
TZOFFSETTO:-0700
TZNAME:PDT
DTSTART:20190310T100000
END:DAYLIGHT
BEGIN:STANDARD
TZOFFSETFROM:-0700
TZOFFSETTO:-0800
TZNAME:PST
DTSTART:20191103T090000
END:STANDARD
BEGIN:DAYLIGHT
TZOFFSETFROM:-0800
TZOFFSETTO:-0700
TZNAME:PDT
DTSTART:20200308T100000
END:DAYLIGHT
BEGIN:STANDARD
TZOFFSETFROM:-0700
TZOFFSETTO:-0800
TZNAME:PST
DTSTART:20201101T090000
END:STANDARD
BEGIN:DAYLIGHT
TZOFFSETFROM:-0800
TZOFFSETTO:-0700
TZNAME:PDT
DTSTART:20210314T100000
END:DAYLIGHT
BEGIN:STANDARD
TZOFFSETFROM:-0700
TZOFFSETTO:-0800
TZNAME:PST
DTSTART:20211107T090000
END:STANDARD
END:VTIMEZONE
BEGIN:VEVENT
DTSTART;TZID=America/Vancouver:20201117T103000
DTEND;TZID=America/Vancouver:20201117T120000
DTSTAMP:20260419T125116
CREATED:20201109T184136Z
LAST-MODIFIED:20201109T184300Z
UID:5783-1605609000-1605614400@bccrns.ca
SUMMARY:Provincial Learning Event - How to Protect Your Finances in Uncertain Times
DESCRIPTION:How to Protect Your Finances in Uncertain Times will be presented by Robert Paddick\, Deputy Ombudsman\, Ombudsman for Banking Services and Investments (OBSI). \nThe coronavirus pandemic is making Canadians feel more vulnerable than ever. But our health isn’t the only thing we need to protect. In uncertain times\, we must look to our financial wellbeing as well. \nIn this webinar\, participants will learn more about: \n• Some examples of scams we need to avoid\,\n• How to change unhealthy financial behaviour\, and\n• How to resolve a complaint against your financial services provider. \nRobert Paddick is a Deputy Ombudsman\, overseeing investments and banking complaints. He is a member of the Ontario bar\, and holds a B.Sc. (Hons) from the University of Western Ontario and a law degree from Queen’s University. He joined OBSI as a Senior Investigator in 2003 and was promoted to Deputy Ombudsman in 2006. Prior to joining OBSI\, Robert was Director\, Mutual Fund Compliance and in-house counsel at a large national mutual fund dealer. Before entering the financial services industry\, he practiced law in Ottawa. \nProvincial Learning Events are free webinars that take place on the third Tuesday of the month from 10:30 am to 12 pm. Everyone is welcome. \nIf you’re interested in participating\, please sign up for the session by registering online now. \nEmail info@bccrns.ca to receive notifications of upcoming provincial learning events.
URL:https://bccrns.ca/event/provincial-learning-event-how-to-protect-your-finances-in-uncertain-times
CATEGORIES:Provincial Learning,Featured
END:VEVENT
BEGIN:VEVENT
DTSTART;TZID=America/Vancouver:20201102T130000
DTEND;TZID=America/Vancouver:20201102T143000
DTSTAMP:20260419T125116
CREATED:20201023T192531Z
LAST-MODIFIED:20201023T192531Z
UID:5667-1604322000-1604327400@bccrns.ca
SUMMARY:It's Not Right!  Zoom Presentation
DESCRIPTION:It’s Not Right!  Zoom Presentation\nA workshop/presentation on ageism\, senior abuse\, and ways of keeping each other safe.\nHosted on SHAREvirtually.com.  Register now!
URL:https://bccrns.ca/event/its-not-right-zoom-presentation
CATEGORIES:Featured
END:VEVENT
BEGIN:VEVENT
DTSTART;VALUE=DATE:20201101
DTEND;VALUE=DATE:20201108
DTSTAMP:20260419T125116
CREATED:20200116T034858Z
LAST-MODIFIED:20200906T220833Z
UID:3660-1604188800-1604793599@bccrns.ca
SUMMARY:BC Crime Prevention Week
DESCRIPTION:Nov. 1-7 is BC Crime Prevention Week. Seniors are safer when we reach out and show them\, we care. Elder Abuse is a growing problem in Canada.  Involved\, caring communities keep all vulnerable adults safe. \nApproximately 1 in 10 Canadians aged 60+ have experienced some form of elder abuse although these statistics may not show the true picture as some adults do not report crime or abuse. \nEveryday\, citizens especially seniors are impacted by the effects of crime in our communities. Awareness is the best protection against crime. Many people may not realize the simple actions make a difference not only their own lives\, but the lives of those in their communities. Power to instill change is found in the knowledge each of us hold. This creates a responsibility to do what we can in our communities to bring awareness to the issues impacting the sense of safety and well-being. \nIt must be noted that abuse can fall into 2 categories: criminal and non-criminal offences. Possible signs of abuse: \n\nthe onset of unexplained physical injuries\, like bruising\, sprains or broken bones\na change in financial status\nabandoning / leaving a dependent elder alone for long periods of time\na sudden change in the elder’s appearance\nbedsores\, unattended medical needs\, poor hygiene\, and unusual weight loss are indicators of possible neglect\nbelittling\, threats\, and other uses of power and control by spouses or those who should be in a position of trust are indicators of verbal or emotional abuse\nfrequent arguments between the caregiver and elderly person\n\nIf you suspect an individual is the victim of abuse or a scam\, talk to the individual or a local agency. Contact your local CRN for additional information. \nAdditional Sources: \nCrime Prevention Week Tips \nElder Abuse (Vancouver Police Department)
URL:https://bccrns.ca/event/bc-crime-prevention-week
CATEGORIES:Featured
END:VEVENT
BEGIN:VEVENT
DTSTART;TZID=America/Vancouver:20201020T103000
DTEND;TZID=America/Vancouver:20201020T120000
DTSTAMP:20260419T125116
CREATED:20201007T180032Z
LAST-MODIFIED:20201012T220259Z
UID:5625-1603189800-1603195200@bccrns.ca
SUMMARY:Provincial Learning Event Webinar - Exploring Restorative Approaches to Adult Abuse\, Neglect & Self Neglect
DESCRIPTION:Registration is now open for our next Provincial Learning Event webinar!\nTopic: Exploring Restorative Approaches to Adult Abuse\, Neglect & Self Neglect – presented by Dr. Alana Abramson (Criminology\, Faculty @ Kwantlen Polytechnic University) and BC CRN Regional Mentor Jane Osborne\nWhen: Oct 20\, 2020 10:30 AM PDT\nRegister now! \nOur provincial learning events are always virtual\, so it’s safe to still participate in them during the COVID-19 emergency. \nIn this packed online session\, some of the questions up for discussion include: \n• What is the potential role for a restorative justice response to adult abuse and neglect? Why would we consider this approach? \n• Who has a role to play in the process? \n• Why do Community Response Networks or Community Health Networks facilitate this approach? \n• What protocols need to be in place between the responding agencies? \n• What are the criteria for making a referral? What are the skills and experience needed for facilitators of these types of cases? \n• What are some examples of restorative responses to abuse and neglect cases? \nAfter a 30-year career in information technology management and organizational development (IBM\, UBC and Metro Vancouver among others)\, Jane Osborne retired to explore the joys of working in community. Over the past 20 years\, she has focused her energies on project and volunteer work provincially and locally; initially on the North Shore of Vancouver and more recently on Central Vancouver Island as a passionate advocate for social justice. Dr. Abramson has been involved in the field of restorative justice (RJ) as a researcher\, practitioner\, and trainer since 1999. She has extensive experience implementing RJ in community\, prison\, and school contexts. In 2017\, Dr. Abramson was the recipient of the Restorative Justice Award from the Ministry of Public Safety and Solicitor General. She also worked to develop the first victim-sensitive principles and standards for restorative justice providers in BC. Dr. Abramson is currently a full-time Criminology Instructor at Kwantlen Polytechnic University\, Coordinator and Facilitator for the Alternatives to Violence Project\, member of the Interior Restorative Justice Hub\, Inside Out Instructor\, Board Member for BC Bereavement Society and the BC Association of Restorative Justice\, and trainer for Achieve/Crisis and Trauma Resource Institute. \nProvincial Learning Events are free webinars that take place on the third Tuesday of the month from 10:30 am to 12 pm.  Everyone is welcome. \nEmail info@bccrns.ca to receive notifications of upcoming provincial learning events.
URL:https://bccrns.ca/event/provincial-learning-event-webinar-exploring-restorative-approaches-to-adult-abuse-neglect-self-neglect
CATEGORIES:Featured
END:VEVENT
BEGIN:VEVENT
DTSTART;VALUE=DATE:20201001
DTEND;VALUE=DATE:20201003
DTSTAMP:20260419T125116
CREATED:20200116T034728Z
LAST-MODIFIED:20200925T215042Z
UID:3657-1601510400-1601683199@bccrns.ca
SUMMARY:National Seniors Day
DESCRIPTION:October 1 is National Seniors Day\, an occasion for all Canadians to appreciate and celebrate older adults.  The intent of National Seniors Day is to showcase the contribution seniors make to the Canadian economy and that their contribution is valuable and ongoing. Seniors helped build our communities and our country. \nBC Community Response Network’s intent in connecting to this event is to bring awareness to abuse\, neglect and self-neglect of our vulnerable seniors. \nJoin BC CRN’s free Zoom event called the Week of the Older Person from September 28 – October 2nd starting at 10am.  Click on the flyer preview below for registration information! \n \n  \n  \n  \n  \n  \n  \n  \n  \nCanadian seniors make up more than 15.6 percent of the population.  By 2030\, seniors will reach 9.5 million and make up 23% of Canadians. \nSadly\, many older adults are vulnerable to multiple forms of abuse and need everyone to be supportive.  It is easy to show your respect and gratitude for the older adults in your life. There are many options to thank the seniors in your life for all their hard work and show them just how much they’re appreciated. \nHere are just a few: \n\nSay “thank you”\nTake a walk together\nCook a meal together\nTreat them to a day out\nSend a card to a senior you care about\nSmile and just say “hi”\nPost a message on the Seniors in Canada Facebook page\n\nShow you care.  Your local CRN can provide information and support to seniors.
URL:https://bccrns.ca/event/national-seniors-day
CATEGORIES:Featured
END:VEVENT
BEGIN:VEVENT
DTSTART;TZID=America/Vancouver:20200915T103000
DTEND;TZID=America/Vancouver:20200915T120000
DTSTAMP:20260419T125116
CREATED:20200906T220318Z
LAST-MODIFIED:20200906T220453Z
UID:5544-1600165800-1600171200@bccrns.ca
SUMMARY:Provincial Learning Event - Cannabis and Older Adults
DESCRIPTION:Provincial Learning Event – Cannabis and Older Adults presented by Jane Hanson and Vijay Morancie\, RCMP “E” Division/Government of Canada\, Crime Prevention Services \nBelieve it or not\, it’s been almost two years since cannabis was legalized in Canada. During this time\, we have seen the use of cannabis and cannabis products increase significantly among older adults.  The RCMP has been working hard to educate British Columbians on safe and legal use.  Jane Hanson and her colleague Vijay Morancie will be online in this session to answer all of your “burning” questions about cannabis and cannabis laws in Canada. \nIn this interactive session\, participants will have opportunities to discuss: \n• What cannabis is and how it is used\n• Health risks and potential benefits\no Effects on the brain\no Prescription drugs and medications\no Heart conditions\no Mental health\n• Medical cannabis\n• Responsible Use\n• Cannabis laws and where to purchase legal cannabis products \nJane Hanson is a community crime prevention specialist who has been with the RCMP for over 14 years. She works with BC communities to identify and address crime and community safety issues.  Vijay Morancie is BC RCMP’s Cannabis Engagement Coordinator. She leads the coordination of cannabis and substance use prevention and engagement activities in BC and the Yukon\, providing guidance\, resources\, and workshops to communities. \nWe’re online! Provincial Learning Events are now being offered as free webinars that take place on the third Tuesday of the month from 10:30 am to 12 pm. Everyone is welcome. \nIf you’re interested in participating\, please sign up for the session by registering online now. \nEmail info@bccrns.ca to receive notifications of upcoming teleconferences and to receive sign-in info.
URL:https://bccrns.ca/event/provincial-learning-event-cannabis-and-older-adults
CATEGORIES:Featured
END:VEVENT
BEGIN:VEVENT
DTSTART;TZID=America/Vancouver:20200618T170000
DTEND;TZID=America/Vancouver:20200618T180000
DTSTAMP:20260419T125116
CREATED:20200604T233019Z
LAST-MODIFIED:20200604T233041Z
UID:5098-1592499600-1592503200@bccrns.ca
SUMMARY:Annual General Meeting of the Association
DESCRIPTION:NOTICE OF ANNUAL GENERAL MEETING OF MEMBERS \nOF \nTHE BC ASSOCIATION OF COMMUNITY RESPONSE NETWORKS \n  \nThe Board of Directors of the Association hereby gives notice that the Annual General Meeting of the Association will be held at 5:00 PM. on the day of Thursday\, June 18\, 2020: \n\nTo receive the report of the Directors to the Members.\n\n\nTo receive and approve the Audited Financial Statements of the Association for the period ended March 31\, 2020.\n\n\nTo appoint an Auditor for the Association for the ensuing year.\n\n\nTo transact such other business as may properly come before the meeting.
URL:https://bccrns.ca/event/annual-general-meeting-of-the-association
CATEGORIES:Featured
END:VEVENT
BEGIN:VEVENT
DTSTART;VALUE=DATE:20200615
DTEND;VALUE=DATE:20200616
DTSTAMP:20260419T125116
CREATED:20200112T211410Z
LAST-MODIFIED:20200603T172408Z
UID:3454-1592179200-1592265599@bccrns.ca
SUMMARY:World Elder Abuse Awareness Day
DESCRIPTION:World Elder Abuse Awareness Day (WEAAD) was developed and launched on June 15\, 2006 by the International Network for the Prevention of Elder Abuse (INPEA). Our Executive Director at that time\, Alison Leaney\, was invited to speak at the United Nations for the launch. \nWEAAD activities are intended to bring greater recognition of abuse and neglect of older adults in British Columbia or wherever they live\, and to highlight the need for prevention and community involvement in a response to the issue. We work to give abuse and neglect of seniors a relevance that will sustain and move prevention efforts forward throughout the year and for years to come. \nCommunity Response Network communities throughout BC will be collaborating in multigenerational and multidisciplinary activities\, events and initiatives in recognition of WEAAD. \n Learn more about how CRN’s are raising awareness for World Elder Abuse Awareness Day on June 15th\, 2020!
URL:https://bccrns.ca/event/world-elder-abuse-awareness-day
CATEGORIES:Featured
END:VEVENT
BEGIN:VEVENT
DTSTART;TZID=America/Vancouver:20200524T080000
DTEND;TZID=America/Vancouver:20200526T170000
DTSTAMP:20260419T125116
CREATED:20200303T030357Z
LAST-MODIFIED:20200303T030357Z
UID:4472-1590307200-1590512400@bccrns.ca
SUMMARY:20/20: A Vision for Seniors – 43rd Annual Conference
DESCRIPTION:20/20: A Vision for Seniors – 43rd Annual Conference \nMay 24-26\, 2020\, Fairmont Chateau Whistler\, Whistler\, BC \nBC Care Providers Association’s annual conference will take a retrospective view of the past twenty years\, and focus on what seniors’ care and living should look like twenty years from now. Along with looking at best practices and innovative models and solutions being employed internationally; the conference will also cover how we can work collaboratively to meet the needs of a rapidly aging population with increasing expectations. \nCall for presenters for the 2020 conference is now open. View more details.
URL:https://bccrns.ca/event/20-20-a-vision-for-seniors-43rd-annual-conference
END:VEVENT
BEGIN:VEVENT
DTSTART;TZID=America/Vancouver:20200519T103000
DTEND;TZID=America/Vancouver:20200519T120000
DTSTAMP:20260419T125116
CREATED:20200502T193628Z
LAST-MODIFIED:20200519T165846Z
UID:4800-1589884200-1589889600@bccrns.ca
SUMMARY:Provincial Learning Event: Elder Abuse and Natural Disasters - Lessons Learned that could Apply to COVID-19
DESCRIPTION:May 19\, 2020: Elder Abuse and Natural Disasters – Lessons Learned that could Apply to COVID-19 presented by Gloria Gutman\, Professor Emerita\, Gerontology\, Simon Fraser University and Board Member\, BC CRN. \nAccess Presentation Materials here \nSince Hurricane Katrina\, seniors are at greater risk of dying than other age groups during natural and human-behaviour stemming emergencies and disasters. There is reason to believe they are also at increased risk of elder abuse and neglect. This session will review the evidence and discuss ways in which abuse and neglect could be expressed during the current Coronavirus pandemic. Participants can expect to learn more how to detect\, mitigate and prevent adult abuse and neglect\, and form new partnerships in community with first responders and humanitarian agencies in today’s reality during the COVID-19 emergency. \nGloria M. Gutman\, PhD\, FCAHS\, LLD (Hon.)\, OBC\, CM\, is president of the North American Chapter International Society for Gerontechnology; vice-president of International Longevity Centre Canada; professor/director emerita of Simon Fraser University’s department of gerontology and Gerontology Research Centre. She is also a Board member of the BC Association of Communication Response Networks (BC CRN). \nProvincial Learning Events are toll-free teleconferences that takes place the third Tuesday of the month from 10:30 am to 12 pm. Everyone is welcome.
URL:https://bccrns.ca/event/provincial-learning-event-elder-abuse-and-natural-disasters-lessons-learned-that-could-apply-to-covid-19
CATEGORIES:Featured
END:VEVENT
BEGIN:VEVENT
DTSTART;TZID=America/Vancouver:20200421T103000
DTEND;TZID=America/Vancouver:20200421T120000
DTSTAMP:20260419T125116
CREATED:20200330T200053Z
LAST-MODIFIED:20200421T021254Z
UID:4632-1587465000-1587470400@bccrns.ca
SUMMARY:Provincial Learning Event - Predatory Marriage
DESCRIPTION:Our provincial learning events are always virtual\, so it’s safe to still participate in them during the COVID-19 emergency. \nParticipants will hear an overview of the legal\, policy\, and social issues surrounding predatory marriage. The concept of capacity to marry will be placed in its historical context\, and you will learn how capacity to marry engages competing policy considerations in modern society. \nAn overview of the legal implications of marriage with reference to recent case law\, and some of the warning signs of abuse to help guard against abuse will also be provided. \nEmily Clough is a Partner with Clark Wilson LLP\, a general practice law firm in Vancouver\, BC. She frequently advocates on behalf of older adults and adults with cognitive impairment. She assists clients in navigating issues of elder abuse\, including dealing with the Public Guardian and Trustee\, the health authorities\, the police\, and the courts. Emily was the successful lawyer on a leading case in BC where a predatory marriage was declared invalid. \nProvincial Learning Events are toll-free teleconferences that take place the third Tuesday of the month from 10:30 am to 12 pm. \nEveryone is welcome. \nEmail info@bccrns.ca to receive notifications of upcoming teleconferences and to receive dial-in info. \nReview the presentation materials.
URL:https://bccrns.ca/event/provincial-learning-event-predatory-marriage
CATEGORIES:Featured
END:VEVENT
BEGIN:VEVENT
DTSTART;VALUE=DATE:20200419
DTEND;VALUE=DATE:20200426
DTSTAMP:20260419T125116
CREATED:20200117T035543Z
LAST-MODIFIED:20200117T035543Z
UID:3931-1587254400-1587859199@bccrns.ca
SUMMARY:National Volunteer Recognition Week
DESCRIPTION:National Volunteer Recognition week is from April 19-25\, 2020.  The theme for 2020 is “It’s Time to Applaud this Country’s Volunteers”.   Volunteers give their time in support of various causes and ask for nothing in return\, in fact volunteers work tirelessly to help their community\, city and country. \nMany older adults are in a position where they can give their time\, skills and energy to volunteering. Organizations must rethink and remove barriers that may result in enthusiastic volunteers with disabilities choosing not to volunteer. \nOrganizations can recognize volunteers by acknowledging their contributions with thank you events\, dinners\, teas or BBQs. \nOrganizations should consider developing and implementing family volunteering opportunities as there is an increase in multi-generations living together and providing support for each other.
URL:https://bccrns.ca/event/national-volunteer-recognition-week
END:VEVENT
BEGIN:VEVENT
DTSTART;TZID=America/Vancouver:20200327T073000
DTEND;TZID=America/Vancouver:20200327T163000
DTSTAMP:20260419T125116
CREATED:20200303T025631Z
LAST-MODIFIED:20200303T025631Z
UID:4466-1585294200-1585326600@bccrns.ca
SUMMARY:17th Annual Geriatric Services Conference
DESCRIPTION:Dialogue on Aging Geriatric Services Conference: Creating Synergy\, Inspiring Change – Providence Health Care \nMarch 27\, 2020\, Vancouver Convention Centre\, Vancouver\, BC \nSave the date! Join colleagues from across the province for another day of inspiration\, latest research and best practices. Faculty includes Dr. Brendan McCormack internationally recognized in leading person-centred practice development. \nView more information.
URL:https://bccrns.ca/event/17th-annual-geriatric-services-conference
LOCATION:Vancouver Convention Centre
END:VEVENT
BEGIN:VEVENT
DTSTART;VALUE=DATE:20200321
DTEND;VALUE=DATE:20200322
DTSTAMP:20260419T125116
CREATED:20200112T211327Z
LAST-MODIFIED:20200112T211327Z
UID:3452-1584748800-1584835199@bccrns.ca
SUMMARY:International Day for the Elimination of Racial Discrimination
DESCRIPTION:For more information\, see the United Nations website.
URL:https://bccrns.ca/event/international-day-for-the-elimination-of-racial-discrimination
END:VEVENT
BEGIN:VEVENT
DTSTART;TZID=America/Vancouver:20200317T103000
DTEND;TZID=America/Vancouver:20200317T120000
DTSTAMP:20260419T125116
CREATED:20200303T023345Z
LAST-MODIFIED:20200303T023345Z
UID:4462-1584441000-1584446400@bccrns.ca
SUMMARY:Provincial Learning Event - Active Aging in Recreation
DESCRIPTION:Active Aging in Recreation presented by Noelle Virtue\, Project Manager\, BC Recreation and Parks Association. \nThe presentation focuses on three initiatives supporting older adults in the recreation sector in BC.  Choose to Move and ActivAge are complementary programs aimed at inactive and isolated older adults.  Hear about the benefits and breadth of these programs\, as well as unique examples of how they are being implemented in BC communities to reach the needs of the older adult population.  The third initiative is a training module developed to provide insights into the unique needs of older\nadults when participating in recreation or leisure activities. It also helps ensure that our programming creates environments and spaces that foster healthy active aging.\nNoelle Virtue is the Project Manager at the BC Recreation and Parks Association working on initiatives at both ends of the age spectrum – infants to 13 years and older adults. She is currently overseeing the Choose to Move and ActivAge programs across the province.  Her previous work has included advocacy and policy development in BC and the UK\, with a particular focus on healthy living. She enjoys being active in beautiful British Columbia and exploring nature with her family. \nProvincial Learning Events are toll-free teleconferences that take place the third Tuesday of the month from 10:30 am to 12 pm. Everyone is welcome. \nEmail info@bccrns.ca to receive notifications of upcoming teleconferences and to receive dial-in info.
URL:https://bccrns.ca/event/provincial-learning-event-active-aging-in-recreation
END:VEVENT
BEGIN:VEVENT
DTSTART;VALUE=DATE:20200301
DTEND;VALUE=DATE:20200401
DTSTAMP:20260419T125116
CREATED:20200116T034557Z
LAST-MODIFIED:20200117T214347Z
UID:3655-1583020800-1585699199@bccrns.ca
SUMMARY:National Fraud Prevention Month
DESCRIPTION:March is Fraud Prevention Month\, a month of activities and events that aims to help Canadians recognize\, reject and report fraud.   Did you know that the fight against fraud starts with you? The old saying is true: knowledge is power. Avoiding fraud is all about knowing how to recognize the signs\, reject the claims that seem too good to be true and reporting them to the authorities.  Seniors and vulnerable adults are frequently the targets of scams. Fraudsters continue to target Canadians\, stealing their hard-earned money and leaving them devastated. The latest data shows Canadians lost approximately $97 million to fraud. \nTips to Protect Yourself Against Fraud \n\nNever give out your personal\, confidential information over the phone\nProtect your banking information\, never reveal your PIN or passwords to anyone\nNever pay money to claim your money or a prize\, there should be no processing fee\nKeep your personal information safe\, an identity thief will go through garbage and recycling bins\nBe skeptical\, if something seems too good to be true\, it probably is\n\nHelp keep yourself and other vulnerable adults safe by sharing information about scams with them.  At times\, vulnerable adults can feel confused or pressured\, you must be informed that it’s okay to hang up the phone or delete an email.  Fraud prevention is a responsibility we all share. \nFor more information\, contact your local CRN.
URL:https://bccrns.ca/event/national-fraud-prevention-month
CATEGORIES:Featured
END:VEVENT
BEGIN:VEVENT
DTSTART;TZID=America/Vancouver:20200218T103000
DTEND;TZID=America/Vancouver:20200218T120000
DTSTAMP:20260419T125116
CREATED:20200211T034424Z
LAST-MODIFIED:20200217T012638Z
UID:4157-1582021800-1582027200@bccrns.ca
SUMMARY:Learning Event - Contextualizing Abuse and Neglect among Transgender Older Adults
DESCRIPTION:Contextualizing Abuse and Neglect among Transgender Older Adults \nPresented by: A.J. Lowik\, PhD Candidate\, Institute for Gender\, Race\, Sexuality and Social Justice\, The University of British Columbia. \nThis presentation will be in two parts: \n\nTerminology and language\, how to talk to and about trans people\, how to respectfully ask questions and understand the common mistakes when interacting with trans people.\n\nThe unique vulnerabilities older trans adults experience in healthcare settings\, retirement\, nursing and long-term care facilitates\, in familial\, romantic and caregiver relationships\, and in cisnormative society more broadly. \n\nWe will consider how and why trans older adults are more vulnerable to neglect\, abuse and mistreatment than their cisgender counterparts\, and will provide some preliminary background and context to the lives of trans older adults and elders. \nThe presentation materials are available here! \n– \nDial in Instructions may be requested at info@bccrns.ca \nFor any questions during the call\, please email ed@bccrns.ca
URL:https://bccrns.ca/event/learning-event-contextualizing-abuse-and-neglect-among-transgender-older-adults
CATEGORIES:Provincial Learning,Featured
END:VEVENT
BEGIN:VEVENT
DTSTART;TZID=America/Vancouver:20200121T023000
DTEND;TZID=America/Vancouver:20200121T040000
DTSTAMP:20260419T125116
CREATED:20191222T095048Z
LAST-MODIFIED:20191222T095422Z
UID:3032-1579573800-1579579200@bccrns.ca
SUMMARY:Provincial Learning Event
DESCRIPTION:“Creating Safe and Respectful Communities for Older Adults” by Raeann Rideout (EAPO)
URL:https://bccrns.ca/event/learning-event
END:VEVENT
END:VCALENDAR