BEGIN:VCALENDAR
VERSION:2.0
PRODID:-//BC Association of Community Response Networks - ECPv6.15.18//NONSGML v1.0//EN
CALSCALE:GREGORIAN
METHOD:PUBLISH
X-ORIGINAL-URL:https://bccrns.ca
X-WR-CALDESC:Events for BC Association of Community Response Networks
REFRESH-INTERVAL;VALUE=DURATION:PT1H
X-Robots-Tag:noindex
X-PUBLISHED-TTL:PT1H
BEGIN:VTIMEZONE
TZID:America/Vancouver
BEGIN:DAYLIGHT
TZOFFSETFROM:-0800
TZOFFSETTO:-0700
TZNAME:PDT
DTSTART:20250309T100000
END:DAYLIGHT
BEGIN:STANDARD
TZOFFSETFROM:-0700
TZOFFSETTO:-0800
TZNAME:PST
DTSTART:20251102T090000
END:STANDARD
BEGIN:DAYLIGHT
TZOFFSETFROM:-0800
TZOFFSETTO:-0700
TZNAME:PDT
DTSTART:20260308T100000
END:DAYLIGHT
BEGIN:STANDARD
TZOFFSETFROM:-0700
TZOFFSETTO:-0800
TZNAME:PST
DTSTART:20261101T090000
END:STANDARD
BEGIN:DAYLIGHT
TZOFFSETFROM:-0800
TZOFFSETTO:-0700
TZNAME:PDT
DTSTART:20270314T100000
END:DAYLIGHT
BEGIN:STANDARD
TZOFFSETFROM:-0700
TZOFFSETTO:-0800
TZNAME:PST
DTSTART:20271107T090000
END:STANDARD
END:VTIMEZONE
BEGIN:VEVENT
DTSTART;TZID=America/Vancouver:20260609T100000
DTEND;TZID=America/Vancouver:20260609T113000
DTSTAMP:20260425T134612
CREATED:20260329T182927Z
LAST-MODIFIED:20260425T193248Z
UID:23608-1780999200-1781004600@bccrns.ca
SUMMARY:Mandarin Webinar Series: It’s Not Right! Neighbours\, Friends & Families for Older Adults
DESCRIPTION:It’s Not Right! is a Canadian public awareness initiative aimed at recognizing and stopping elder abuse. It focuses on empowering community members to identify signs of abuse and take action.\n  \n\nThe Chinese CRN will present this essential topic in a series of three educational webinars in Mandarin. Each session will have different focuses and scenarios for discussion to ensure active participant learning. The series will run from April 14 to June 9 from 10am – 11:30am PDT.\n  \n\nRegister for an upcoming It’s Not Right! online province-wide learning series hosted by the Chinese CRN:\n  \n\n\nJune 9 Mandarin – Session 3 I Have Choices 我有選擇\nJune 23 Cantonese – Session 1 Eliminate Isolation & Get Connected 消除孤立\, 聯繫社群\nJuly 14  Cantonese – Session 2 YOU Power 您的力量\nAugust 11 Cantonese – Session 3 I Have Choices 我有選擇
URL:https://bccrns.ca/event/inr-chinese-crn-june-9-2026
CATEGORIES:Featured
END:VEVENT
BEGIN:VEVENT
DTSTART;TZID=America/Vancouver:20260610T100000
DTEND;TZID=America/Vancouver:20260610T113000
DTSTAMP:20260425T134612
CREATED:20260425T192524Z
LAST-MODIFIED:20260425T192628Z
UID:23862-1781085600-1781091000@bccrns.ca
SUMMARY:National Webinar (English): World Elder Abuse Awareness Day
DESCRIPTION:World Elder Abuse Awareness Day (WEAAD) is June 15th\, 2026. \nThis year marks 20 years of collective action\, and we invite you to be inspired by the power of partnership as we strengthen our impact in communities across BC. This global movement\, launched in 2006\, combines education\, advocacy\, and celebration to create a world where aging is honoured\, and elder abuse is eliminated. Learn more about how you can participate in WEAAD activities in your community. \nThis year’s theme “Be Bold: Age with Attitude” celebrates the strength\, wisdom\, and resilience of older adults while promoting their right to live free from abuse and discrimination. \nWe welcome you to attend the National WEAAD webinar. Register here.
URL:https://bccrns.ca/event/national-webinar-english-weaad-2026
CATEGORIES:Featured
ATTACH;FMTTYPE=image/png:https://bccrns.ca/wp-content/uploads/2026/04/weaad-2026-thumbnails.png
END:VEVENT
BEGIN:VEVENT
DTSTART;TZID=America/Vancouver:20260615T100000
DTEND;TZID=America/Vancouver:20260615T113000
DTSTAMP:20260425T134612
CREATED:20260425T192857Z
LAST-MODIFIED:20260425T192857Z
UID:23865-1781517600-1781523000@bccrns.ca
SUMMARY:National Webinar (French): World Elder Abuse Awareness Day
DESCRIPTION:World Elder Abuse Awareness Day (WEAAD) is June 15th\, 2026. \nThis year marks 20 years of collective action\, and we invite you to be inspired by the power of partnership as we strengthen our impact in communities across BC. This global movement\, launched in 2006\, combines education\, advocacy\, and celebration to create a world where aging is honoured\, and elder abuse is eliminated. Learn more about how you can participate in WEAAD activities in your community. \nThis year’s theme “Be Bold: Age with Attitude” celebrates the strength\, wisdom\, and resilience of older adults while promoting their right to live free from abuse and discrimination. \nWe welcome you to attend the National WEAAD webinar (French event). Registration information coming soon!
URL:https://bccrns.ca/event/national-webinar-french-weaad-2026
CATEGORIES:Featured
ATTACH;FMTTYPE=image/png:https://bccrns.ca/wp-content/uploads/2026/04/weaad-2026-thumbnails.png
END:VEVENT
BEGIN:VEVENT
DTSTART;TZID=America/Vancouver:20260623T100000
DTEND;TZID=America/Vancouver:20260623T113000
DTSTAMP:20260425T134612
CREATED:20260329T183107Z
LAST-MODIFIED:20260401T164342Z
UID:23611-1782208800-1782214200@bccrns.ca
SUMMARY:Cantonese Webinar Series: It’s Not Right! Neighbours\, Friends & Families for Older Adults
DESCRIPTION:It’s Not Right! is a Canadian public awareness initiative aimed at recognizing and stopping elder abuse. It focuses on empowering community members to identify signs of abuse and take action.\n  \n\nThe Chinese CRN will present this essential topic in a series of three educational webinars in Mandarin. Each session will have different focuses and scenarios for discussion to ensure active participant learning. The series will run from April 14 to June 9 from 10am – 11:30am PDT.\n  \n\nRegister for an upcoming It’s Not Right! online province-wide learning series hosted by the Chinese CRN:\n  \n\nJune 23 Cantonese – Session 1 Eliminate Isolation & Get Connected 消除孤立\, 聯繫社群\nJuly 14 Cantonese – Session 2 YOU Power 您的力量\nAugust 11 Cantonese – Session 3 I Have Choices 我有選擇
URL:https://bccrns.ca/event/inr-chinese-crn-june-23-2026
CATEGORIES:Featured
END:VEVENT
BEGIN:VEVENT
DTSTART;TZID=America/Vancouver:20260714T100000
DTEND;TZID=America/Vancouver:20260714T113000
DTSTAMP:20260425T134612
CREATED:20260329T184151Z
LAST-MODIFIED:20260401T164507Z
UID:23620-1784023200-1784028600@bccrns.ca
SUMMARY:Cantonese Webinar Series: It’s Not Right! Neighbours\, Friends & Families for Older Adults
DESCRIPTION:It’s Not Right! is a Canadian public awareness initiative aimed at recognizing and stopping elder abuse. It focuses on empowering community members to identify signs of abuse and take action.\n  \n\nThe Chinese CRN will present this essential topic in a series of three educational webinars in Mandarin. Each session will have different focuses and scenarios for discussion to ensure active participant learning. The series will run from April 14 to June 9 from 10am – 11:30am PDT.\n  \n\nRegister for an upcoming It’s Not Right! online province-wide learning series hosted by the Chinese CRN:\n  \n\n\nJuly 14  Cantonese – Session 2 YOU Power 您的力量\nAugust 11 Cantonese – Session 3 I Have Choices 我有選擇
URL:https://bccrns.ca/event/inr-chinese-crn-july-14-2026
CATEGORIES:Featured
END:VEVENT
BEGIN:VEVENT
DTSTART;TZID=America/Vancouver:20260811T100000
DTEND;TZID=America/Vancouver:20260811T113000
DTSTAMP:20260425T134612
CREATED:20260329T183434Z
LAST-MODIFIED:20260401T164629Z
UID:23615-1786442400-1786447800@bccrns.ca
SUMMARY:Cantonese Webinar Series: It’s Not Right! Neighbours\, Friends & Families for Older Adults
DESCRIPTION:It’s Not Right! is a Canadian public awareness initiative aimed at recognizing and stopping elder abuse. It focuses on empowering community members to identify signs of abuse and take action.\n  \n\nThe Chinese CRN will present this essential topic in a series of three educational webinars in Mandarin. Each session will have different focuses and scenarios for discussion to ensure active participant learning. The series will run from April 14 to June 9 from 10am – 11:30am PDT.\n  \n\nRegister for an upcoming It’s Not Right! online province-wide learning series hosted by the Chinese CRN:\n  \n\nAugust 11 Cantonese – Session 3 I Have Choices 我有選擇
URL:https://bccrns.ca/event/inr-chinese-crn-august-11-2026
CATEGORIES:Featured
END:VEVENT
END:VCALENDAR