BEGIN:VCALENDAR
VERSION:2.0
PRODID:-//BC Association of Community Response Networks - ECPv6.15.18//NONSGML v1.0//EN
CALSCALE:GREGORIAN
METHOD:PUBLISH
X-WR-CALNAME:BC Association of Community Response Networks
X-ORIGINAL-URL:https://bccrns.ca
X-WR-CALDESC:Events for BC Association of Community Response Networks
REFRESH-INTERVAL;VALUE=DURATION:PT1H
X-Robots-Tag:noindex
X-PUBLISHED-TTL:PT1H
BEGIN:VTIMEZONE
TZID:America/Vancouver
BEGIN:DAYLIGHT
TZOFFSETFROM:-0800
TZOFFSETTO:-0700
TZNAME:PDT
DTSTART:20250309T100000
END:DAYLIGHT
BEGIN:STANDARD
TZOFFSETFROM:-0700
TZOFFSETTO:-0800
TZNAME:PST
DTSTART:20251102T090000
END:STANDARD
BEGIN:DAYLIGHT
TZOFFSETFROM:-0800
TZOFFSETTO:-0700
TZNAME:PDT
DTSTART:20260308T100000
END:DAYLIGHT
BEGIN:STANDARD
TZOFFSETFROM:-0700
TZOFFSETTO:-0800
TZNAME:PST
DTSTART:20261101T090000
END:STANDARD
BEGIN:DAYLIGHT
TZOFFSETFROM:-0800
TZOFFSETTO:-0700
TZNAME:PDT
DTSTART:20270314T100000
END:DAYLIGHT
BEGIN:STANDARD
TZOFFSETFROM:-0700
TZOFFSETTO:-0800
TZNAME:PST
DTSTART:20271107T090000
END:STANDARD
END:VTIMEZONE
BEGIN:VEVENT
DTSTART;TZID=America/Vancouver:20260303T120000
DTEND;TZID=America/Vancouver:20260303T130000
DTSTAMP:20260425T065734
CREATED:20260112T014223Z
LAST-MODIFIED:20260209T222205Z
UID:22747-1772539200-1772542800@bccrns.ca
SUMMARY:Protect Yourself: Frauds and Scams (Online Workshop)
DESCRIPTION:Join BC CRN as we welcome Linda Yauk\, Learning Events & Outreach Coordinator at Seniors First BC\, for an important and informative session on Frauds and Scams. \nIn 2024\, according to the Canadian Anti-Fraud Centre\, there was 49\,432 fraud reports processed\, 34\,621 victims of fraud\, and $638M lost to fraud. \nThis free workshop will cover: \n\nWhat frauds and scams are\nHow scammers target older adults\nCommon schemes to watch out for\nPractical tips to stay safe\nWhere to go for help and support\n\nDon’t miss this opportunity to learn how to protect yourself and others. See event poster. \nEmail programs@bccrns.ca with any questions. \nRegister now!
URL:https://bccrns.ca/event/frauds-and-scams-march-3-2026
CATEGORIES:Featured
ATTACH;FMTTYPE=image/jpeg:https://bccrns.ca/wp-content/uploads/2025/07/bc-crn-seniors-first-frauds-scams.jpg
END:VEVENT
END:VCALENDAR