BEGIN:VCALENDAR
VERSION:2.0
PRODID:-//BC Association of Community Response Networks - ECPv6.15.18//NONSGML v1.0//EN
CALSCALE:GREGORIAN
METHOD:PUBLISH
X-WR-CALNAME:BC Association of Community Response Networks
X-ORIGINAL-URL:https://bccrns.ca
X-WR-CALDESC:Events for BC Association of Community Response Networks
REFRESH-INTERVAL;VALUE=DURATION:PT1H
X-Robots-Tag:noindex
X-PUBLISHED-TTL:PT1H
BEGIN:VTIMEZONE
TZID:America/Vancouver
BEGIN:DAYLIGHT
TZOFFSETFROM:-0800
TZOFFSETTO:-0700
TZNAME:PDT
DTSTART:20220313T100000
END:DAYLIGHT
BEGIN:STANDARD
TZOFFSETFROM:-0700
TZOFFSETTO:-0800
TZNAME:PST
DTSTART:20221106T090000
END:STANDARD
BEGIN:DAYLIGHT
TZOFFSETFROM:-0800
TZOFFSETTO:-0700
TZNAME:PDT
DTSTART:20230312T100000
END:DAYLIGHT
BEGIN:STANDARD
TZOFFSETFROM:-0700
TZOFFSETTO:-0800
TZNAME:PST
DTSTART:20231105T090000
END:STANDARD
BEGIN:DAYLIGHT
TZOFFSETFROM:-0800
TZOFFSETTO:-0700
TZNAME:PDT
DTSTART:20240310T100000
END:DAYLIGHT
BEGIN:STANDARD
TZOFFSETFROM:-0700
TZOFFSETTO:-0800
TZNAME:PST
DTSTART:20241103T090000
END:STANDARD
END:VTIMEZONE
BEGIN:VEVENT
DTSTART;VALUE=DATE:20230301
DTEND;VALUE=DATE:20230401
DTSTAMP:20260424T150545
CREATED:20221221T201147Z
LAST-MODIFIED:20221221T202222Z
UID:12475-1677628800-1680307199@bccrns.ca
SUMMARY:National Fraud Prevention Month
DESCRIPTION:March is Fraud Prevention Month\, a month of activities and events that aims to help Canadians recognize\, reject and report fraud.   Did you know that the fight against fraud starts with you? The old saying is true: knowledge is power. Avoiding fraud is all about knowing how to recognize the signs\, reject the claims that seem too good to be true and reporting them to the authorities.  Seniors and vulnerable adults are frequently the targets of scams. Fraudsters continue to target Canadians\, stealing their hard-earned money and leaving them devastated. The latest data shows Canadians lost approximately $97 million to fraud. \nTips to Protect Yourself Against Fraud \n\nNever give out your personal\, confidential information over the phone\nProtect your banking information\, never reveal your PIN or passwords to anyone\nNever pay money to claim your money or a prize\, there should be no processing fee\nKeep your personal information safe\, an identity thief will go through garbage and recycling bins\nBe skeptical\, if something seems too good to be true\, it probably is\n\nHelp keep yourself and other vulnerable adults safe by sharing information about scams with them.  At times\, vulnerable adults can feel confused or pressured\, you must be informed that it’s okay to hang up the phone or delete an email.  Fraud prevention is a responsibility we all share. \nFor more information\, please review our financial abuse resources or contact your local CRN.
URL:https://bccrns.ca/event/national-fraud-prevention-month-2023
CATEGORIES:Featured
END:VEVENT
END:VCALENDAR