BEGIN:VCALENDAR
VERSION:2.0
PRODID:-//BC Association of Community Response Networks - ECPv6.15.18//NONSGML v1.0//EN
CALSCALE:GREGORIAN
METHOD:PUBLISH
X-ORIGINAL-URL:https://bccrns.ca
X-WR-CALDESC:Events for BC Association of Community Response Networks
REFRESH-INTERVAL;VALUE=DURATION:PT1H
X-Robots-Tag:noindex
X-PUBLISHED-TTL:PT1H
BEGIN:VTIMEZONE
TZID:America/Vancouver
BEGIN:DAYLIGHT
TZOFFSETFROM:-0800
TZOFFSETTO:-0700
TZNAME:PDT
DTSTART:20250309T100000
END:DAYLIGHT
BEGIN:STANDARD
TZOFFSETFROM:-0700
TZOFFSETTO:-0800
TZNAME:PST
DTSTART:20251102T090000
END:STANDARD
BEGIN:DAYLIGHT
TZOFFSETFROM:-0800
TZOFFSETTO:-0700
TZNAME:PDT
DTSTART:20260308T100000
END:DAYLIGHT
BEGIN:STANDARD
TZOFFSETFROM:-0700
TZOFFSETTO:-0800
TZNAME:PST
DTSTART:20261101T090000
END:STANDARD
BEGIN:DAYLIGHT
TZOFFSETFROM:-0800
TZOFFSETTO:-0700
TZNAME:PDT
DTSTART:20270314T100000
END:DAYLIGHT
BEGIN:STANDARD
TZOFFSETFROM:-0700
TZOFFSETTO:-0800
TZNAME:PST
DTSTART:20271107T090000
END:STANDARD
END:VTIMEZONE
BEGIN:VEVENT
DTSTART;TZID=America/Vancouver:20260505T120000
DTEND;TZID=America/Vancouver:20260505T130000
DTSTAMP:20260425T040626
CREATED:20260112T015048Z
LAST-MODIFIED:20260112T015048Z
UID:22753-1777982400-1777986000@bccrns.ca
SUMMARY:See Something\, Say Something! Reducing Risk for Older Adults (Online Presentation)
DESCRIPTION:Older adults living alone or in isolation may be at risk\, but YOU can help! Join us for this dynamic online presentation to learn how to take action to keep older adults safe\, secure and independent. \nWho should attend this session? Anyone who interacts with older or vulnerable adults\, including: \n\nBank personnel\nLetter carriers\nGrocery store & restaurant staff\nVolunteers\, caregivers & drivers\nPharmacy & healthcare workers\nChurch members & social groups\n\nLet’s work together to build safer\, more connected communities! \nQuestions? Email us at programs@bccrns.ca. \nRegister now!
URL:https://bccrns.ca/event/ssss-may-5-2026
CATEGORIES:Featured
ATTACH;FMTTYPE=image/jpeg:https://bccrns.ca/wp-content/uploads/2025/04/see-something-say-something-feature-image.jpg
END:VEVENT
BEGIN:VEVENT
DTSTART;TZID=America/Vancouver:20260512T100000
DTEND;TZID=America/Vancouver:20260512T113000
DTSTAMP:20260425T040626
CREATED:20260329T182706Z
LAST-MODIFIED:20260329T183649Z
UID:23606-1778580000-1778585400@bccrns.ca
SUMMARY:Mandarin Webinar Series: It’s Not Right! Neighbours\, Friends & Families for Older Adults
DESCRIPTION:It’s Not Right! is a Canadian public awareness initiative aimed at recognizing and stopping elder abuse. It focuses on empowering community members to identify signs of abuse and take action.\n  \n\nThe Chinese CRN will present this essential topic in a series of three educational webinars in Mandarin. Each session will have different focuses and scenarios for discussion to ensure active participant learning. The series will run from April 14 to June 9 from 10am – 11:30am PDT.\n  \n\nRegister for an upcoming It’s Not Right! online province-wide learning series hosted by the Chinese CRN:\n  \n\n\nMay 12 Mandarin – Session 2 YOU Power 您的力量\nJune 9 Mandarin – Session 3 I Have Choices 我有選擇\nJune 23 Cantonese – Session 1 Eliminate Isolation & Get Connected 消除孤立\, 聯繫社群\nJuly 14  Cantonese – Session 2 YOU Power 您的力量\nAugust 11 Cantonese – Session 3 I Have Choices 我有選擇
URL:https://bccrns.ca/event/inr-chinese-crn-may-12-2026
CATEGORIES:Featured
END:VEVENT
BEGIN:VEVENT
DTSTART;TZID=America/Vancouver:20260519T103000
DTEND;TZID=America/Vancouver:20260519T120000
DTSTAMP:20260425T040626
CREATED:20260329T153546Z
LAST-MODIFIED:20260423T023147Z
UID:23597-1779186600-1779192000@bccrns.ca
SUMMARY:Provincial Learning Event Webinar: Disability Awareness
DESCRIPTION:Register now  \nYou’re invited to join us for our May Provincial Learning Event\, an engaging and thought-provoking session focused on disability\, ableism\, and equity. We encourage you to register and be part of this important conversation. \nPeople with disabilities represent the world’s largest minority\, and the only minority group that any of us can become a member of at any time. And yet they still experience barriers\, prejudice\, and bias on a daily basis. \nThis workshop challenges all to more fully address ableist notions of how we think about\, and label\, our bodies\, minds\, and senses. \nIt also provides the tools to understand what disability is\, the types of disability\, the current language of disability\, what ableism is\, how you can actively work to fight against it\, and tips for disabled people and allies alike to better ensure equity in all that you do. \nLET’S disability workshops are created\, researched and facilitated by disabled people. \nPresented by: Heather McCain (they/them) is founder and Executive Director of Live Educate Transform Society (LET’S)\, a non-profit they started in 2005. \nHeather built LET’S from a small grassroots organization to an organization that delivers workshops and adds their voice to projects and events across Turtle Island (colonially known as North America). \nHeather’s own experiences as an asexual\, disabled\, neurodivergent\, queer\, trans person led them to become a well-known and respected advocate\, educator\, and speaker. Heather works to create equity\, celebrate diversity\, and educate about and implement accessibility.
URL:https://bccrns.ca/event/ple-may-19-2026
CATEGORIES:Provincial Learning,Featured
ATTACH;FMTTYPE=image/jpeg:https://bccrns.ca/wp-content/uploads/2026/03/ple-disability-awareness.jpg
END:VEVENT
END:VCALENDAR