BEGIN:VCALENDAR
VERSION:2.0
PRODID:-//BC Association of Community Response Networks - ECPv6.15.18//NONSGML v1.0//EN
CALSCALE:GREGORIAN
METHOD:PUBLISH
X-ORIGINAL-URL:https://bccrns.ca
X-WR-CALDESC:Events for BC Association of Community Response Networks
REFRESH-INTERVAL;VALUE=DURATION:PT1H
X-Robots-Tag:noindex
X-PUBLISHED-TTL:PT1H
BEGIN:VTIMEZONE
TZID:America/Vancouver
BEGIN:DAYLIGHT
TZOFFSETFROM:-0800
TZOFFSETTO:-0700
TZNAME:PDT
DTSTART:20220313T100000
END:DAYLIGHT
BEGIN:STANDARD
TZOFFSETFROM:-0700
TZOFFSETTO:-0800
TZNAME:PST
DTSTART:20221106T090000
END:STANDARD
BEGIN:DAYLIGHT
TZOFFSETFROM:-0800
TZOFFSETTO:-0700
TZNAME:PDT
DTSTART:20230312T100000
END:DAYLIGHT
BEGIN:STANDARD
TZOFFSETFROM:-0700
TZOFFSETTO:-0800
TZNAME:PST
DTSTART:20231105T090000
END:STANDARD
BEGIN:DAYLIGHT
TZOFFSETFROM:-0800
TZOFFSETTO:-0700
TZNAME:PDT
DTSTART:20240310T100000
END:DAYLIGHT
BEGIN:STANDARD
TZOFFSETFROM:-0700
TZOFFSETTO:-0800
TZNAME:PST
DTSTART:20241103T090000
END:STANDARD
END:VTIMEZONE
BEGIN:VEVENT
DTSTART;TZID=America/Vancouver:20230404T120000
DTEND;TZID=America/Vancouver:20230404T130000
DTSTAMP:20260424T165147
CREATED:20230127T203935Z
LAST-MODIFIED:20230127T203935Z
UID:12695-1680609600-1680613200@bccrns.ca
SUMMARY:See Something\, Say Something! Workshop
DESCRIPTION:You are invited to join us for this dynamic workshop. The See Something\, Say Something! Reducing Risk for Older Adults program (formerly known as the Gatekeeper program) is designed to help identify high-risk adults\, particularly those who live alone and who may be isolated. Everyone can play an important role in the community in keeping others safe\, secure\, and independent. \nWho is this program for? Anyone who has contact with older or vulnerable adults: \n• Bank personnel\n• Meter readers\n• Volunteers\, caregivers\, drivers\n• Pharmacy personnel\n• Post office workers\, letter carriers\n• Restaurant personnel\, grocery store clerks\n• Churches\, social clubs\n• INCLUDING YOU! \nRegister now or email programs@bccrns.ca.
URL:https://bccrns.ca/event/see-something-say-something-workshop-3
CATEGORIES:Featured
END:VEVENT
BEGIN:VEVENT
DTSTART;VALUE=DATE:20230416
DTEND;VALUE=DATE:20230423
DTSTAMP:20260424T165147
CREATED:20221221T201617Z
LAST-MODIFIED:20221221T201729Z
UID:12479-1681603200-1682207999@bccrns.ca
SUMMARY:National Volunteer Recognition Week
DESCRIPTION:Volunteers give their time in support of various causes and ask for nothing in return\, in fact volunteers work tirelessly to help their community\, city\, and country. \nMany older adults are in a position where they can give their time\, skills\, and energy to volunteering.  Organizations must rethink and remove barriers that may result in enthusiastic volunteers with disabilities choosing not to volunteer. \nOrganizations can recognize volunteers by acknowledging their contributions with thank you events\, dinners\, teas\, or BBQs. \nOrganizations should consider developing and implementing family volunteering opportunities as there is an increase in multi-generations living together and providing support for each other. \nFor more information\, please contact your local CRN.
URL:https://bccrns.ca/event/national-volunteer-recognition-week-2023
CATEGORIES:Featured
END:VEVENT
BEGIN:VEVENT
DTSTART;VALUE=DATE:20230416
DTEND;VALUE=DATE:20230417
DTSTAMP:20260424T165147
CREATED:20230310T192104Z
LAST-MODIFIED:20230310T192105Z
UID:13094-1681603200-1681689599@bccrns.ca
SUMMARY:Advance Care Planning (ACP) Day
DESCRIPTION:Advance care planning (ACP) helps people prepare for the unexpected.  Many of us will at some point in our lives be incapable of making health care\, personal care\, financial\, or legal decisions.  Being prepared allows your beliefs\, values\, and wishes to be represented and respected when you are incapable.  Being prepared also reduces the stress on your family and friends who may be called on to make decisions on your behalf. \nAdvance Care Planning Day (ACP) is April 16\, 2023.  The BC Centre for Palliative Care encourages everyone to create ACP awareness in their communities by: \n\nHarnessing the power of social media\nEngaging local media\nSharing personal stories\nHosting public sessions/events\nPromoting ACP online\nStarting your own advance care planning\n\nVisit the BC CRN’s ACP page for more information and resources. \n 
URL:https://bccrns.ca/event/advance-care-planning-acp-day
CATEGORIES:Featured
END:VEVENT
BEGIN:VEVENT
DTSTART;TZID=America/Vancouver:20230418T103000
DTEND;TZID=America/Vancouver:20230418T120000
DTSTAMP:20260424T165147
CREATED:20230217T194958Z
LAST-MODIFIED:20230217T194958Z
UID:12948-1681813800-1681819200@bccrns.ca
SUMMARY:Provincial Learning Event: Social Prescribing & Older Adults
DESCRIPTION:Register now. \nSocial prescribing or social prescription is a relatively new approach that brings together social and medical models of health care. In this presentation\, we provide an overview of social prescribing based on the results of our two recent systematic reviews for this topic. \nSpeakers: \nSanya Grover: Sanya is a second year medical student at the University of British Columbia. Prior to medicine\, she completed her Bachelor of Health Sciences at McMaster University. Her research interests are focused on understanding the definition and implementation of person-centered care\, as well as exploring other healthcare concepts such as reablement and more recently\, social prescribing. \nMaureen Ashe: Maureen is a professor in the Department of Family Practice at UBC\, Canada Research Chair in Community Mobility\, and a physiotherapist. Maureen’s research interests include interventions to encourage older adults’ engagement in physical activity\, behavior change\, digital health\, and models of care such as reablement and social prescribing. \nRegister now.
URL:https://bccrns.ca/event/ple-socialprescribing
CATEGORIES:Provincial Learning,Featured
END:VEVENT
END:VCALENDAR