BEGIN:VCALENDAR
VERSION:2.0
PRODID:-//BC Association of Community Response Networks - ECPv6.15.18//NONSGML v1.0//EN
CALSCALE:GREGORIAN
METHOD:PUBLISH
X-WR-CALNAME:BC Association of Community Response Networks
X-ORIGINAL-URL:https://bccrns.ca
X-WR-CALDESC:Events for BC Association of Community Response Networks
REFRESH-INTERVAL;VALUE=DURATION:PT1H
X-Robots-Tag:noindex
X-PUBLISHED-TTL:PT1H
BEGIN:VTIMEZONE
TZID:America/Vancouver
BEGIN:DAYLIGHT
TZOFFSETFROM:-0800
TZOFFSETTO:-0700
TZNAME:PDT
DTSTART:20210314T100000
END:DAYLIGHT
BEGIN:STANDARD
TZOFFSETFROM:-0700
TZOFFSETTO:-0800
TZNAME:PST
DTSTART:20211107T090000
END:STANDARD
BEGIN:DAYLIGHT
TZOFFSETFROM:-0800
TZOFFSETTO:-0700
TZNAME:PDT
DTSTART:20220313T100000
END:DAYLIGHT
BEGIN:STANDARD
TZOFFSETFROM:-0700
TZOFFSETTO:-0800
TZNAME:PST
DTSTART:20221106T090000
END:STANDARD
BEGIN:DAYLIGHT
TZOFFSETFROM:-0800
TZOFFSETTO:-0700
TZNAME:PDT
DTSTART:20230312T100000
END:DAYLIGHT
BEGIN:STANDARD
TZOFFSETFROM:-0700
TZOFFSETTO:-0800
TZNAME:PST
DTSTART:20231105T090000
END:STANDARD
END:VTIMEZONE
BEGIN:VEVENT
DTSTART;TZID=America/Vancouver:20220215T103000
DTEND;TZID=America/Vancouver:20220215T120000
DTSTAMP:20260423T040323
CREATED:20220112T054056Z
LAST-MODIFIED:20220205T002239Z
UID:9386-1644921000-1644926400@bccrns.ca
SUMMARY:Provincial Learning Event - Building and Supporting Financial Resilience
DESCRIPTION:Our provincial learning events are always virtual\, so it’s safe to still participate in them during the pandemic. \nRegistration is now open for this session. \nMany of us work in service agencies supporting clients who have a variety of concerns. And\, while the issues may range from mental health\, addiction\, homelessness\, relationships\, loneliness\, disabilities\, and resettlement\, financial struggles are often a key component of all of these issues. \nIn this webinar\, we will look at Financial Empowerment and how it supports and empowers individuals to take better financial control of their lives through education and support that build greater financial confidence and resilience. \nMany individuals at some time in their life may be preyed upon by the private sector\, or even experience financial abuse within their own family. \n(Photo: M. Baker)\nWe will look at how we can develop supports or referral networks to assist them when they are experiencing such distress\, including the services offered by Family Services of Greater Vancouver. We’ll discuss how we can support clients in developing positive practices to protect themselves against the growing issue of frauds\, scams\, identity theft\, and predatory lending\, which so often impact the most vulnerable. \nYou’ll come away with a greater understanding of how empowering individuals financially can have a positive impact on overall health and well-being\, and how we can support your clients through our free financial workshops\, advocacy\, and one-on-one coaching. \nMurray Baker is the Manager\, Financial Empowerment\, for Family Services of Greater Vancouver. He is also a leading North American authority on student financial planning and author of the bestseller\, The Debt Free Graduate: How to Survive College or University Without Going Broke (HarperCollins). \nHe has worked in financial literacy for over 24 years and also writes for the Good Money blog and authored several reports. He is passionate about financial education and empowering individuals to take greater control of their finances and become savvy consumers. He advocates for vulnerable populations\, including promoting policy changes that facilitate the financial well-being of all people in Canada and developing programs that foster universal financial literacy.
URL:https://bccrns.ca/event/provincial-learning-event-financial-literacy-family-services-of-greater-vancouver
CATEGORIES:Provincial Learning,Featured
END:VEVENT
END:VCALENDAR