BEGIN:VCALENDAR
VERSION:2.0
PRODID:-//BC Association of Community Response Networks - ECPv6.15.18//NONSGML v1.0//EN
CALSCALE:GREGORIAN
METHOD:PUBLISH
X-WR-CALNAME:BC Association of Community Response Networks
X-ORIGINAL-URL:https://bccrns.ca
X-WR-CALDESC:Events for BC Association of Community Response Networks
REFRESH-INTERVAL;VALUE=DURATION:PT1H
X-Robots-Tag:noindex
X-PUBLISHED-TTL:PT1H
BEGIN:VTIMEZONE
TZID:America/Vancouver
BEGIN:DAYLIGHT
TZOFFSETFROM:-0800
TZOFFSETTO:-0700
TZNAME:PDT
DTSTART:20200308T100000
END:DAYLIGHT
BEGIN:STANDARD
TZOFFSETFROM:-0700
TZOFFSETTO:-0800
TZNAME:PST
DTSTART:20201101T090000
END:STANDARD
BEGIN:DAYLIGHT
TZOFFSETFROM:-0800
TZOFFSETTO:-0700
TZNAME:PDT
DTSTART:20210314T100000
END:DAYLIGHT
BEGIN:STANDARD
TZOFFSETFROM:-0700
TZOFFSETTO:-0800
TZNAME:PST
DTSTART:20211107T090000
END:STANDARD
BEGIN:DAYLIGHT
TZOFFSETFROM:-0800
TZOFFSETTO:-0700
TZNAME:PDT
DTSTART:20220313T100000
END:DAYLIGHT
BEGIN:STANDARD
TZOFFSETFROM:-0700
TZOFFSETTO:-0800
TZNAME:PST
DTSTART:20221106T090000
END:STANDARD
END:VTIMEZONE
BEGIN:VEVENT
DTSTART;TZID=America/Vancouver:20211109T130000
DTEND;TZID=America/Vancouver:20211109T150000
DTSTAMP:20260420T014532
CREATED:20211101T190501Z
LAST-MODIFIED:20211101T190502Z
UID:9065-1636462800-1636470000@bccrns.ca
SUMMARY:Gatekeeper Program
DESCRIPTION:The Gatekeeper Program is designed to help citizens identify high-risk people\, particularly those who live alone and who may be isolated. Gatekeepers can play an important role in the community in keeping our citizens safe\, secure\, and independent. \nWho are Gatekeepers? Anyone who has contact with older or vulnerable adults – YOU! \n\nBank personnel\nMeter readers\nVolunteers\, caregivers\, drivers\nPharmacy personnel\nPost office workers\, letter carriers\nRestaurant personnel\nGrocery store clerks\nChurches\, social clubs\n\nCome join us on Zoom and learn virtually. Everyone is welcome! \nDates: November 5th & November 9th\nTime: 1PM Pacific Time\nPlease RSVP: programs@bccrns.ca
URL:https://bccrns.ca/event/gatekeeper-program-2
CATEGORIES:Featured
END:VEVENT
END:VCALENDAR