BEGIN:VCALENDAR
VERSION:2.0
PRODID:-//BC Association of Community Response Networks - ECPv6.15.18//NONSGML v1.0//EN
CALSCALE:GREGORIAN
METHOD:PUBLISH
X-WR-CALNAME:BC Association of Community Response Networks
X-ORIGINAL-URL:https://bccrns.ca
X-WR-CALDESC:Events for BC Association of Community Response Networks
REFRESH-INTERVAL;VALUE=DURATION:PT1H
X-Robots-Tag:noindex
X-PUBLISHED-TTL:PT1H
BEGIN:VTIMEZONE
TZID:America/Vancouver
BEGIN:DAYLIGHT
TZOFFSETFROM:-0800
TZOFFSETTO:-0700
TZNAME:PDT
DTSTART:20200308T100000
END:DAYLIGHT
BEGIN:STANDARD
TZOFFSETFROM:-0700
TZOFFSETTO:-0800
TZNAME:PST
DTSTART:20201101T090000
END:STANDARD
BEGIN:DAYLIGHT
TZOFFSETFROM:-0800
TZOFFSETTO:-0700
TZNAME:PDT
DTSTART:20210314T100000
END:DAYLIGHT
BEGIN:STANDARD
TZOFFSETFROM:-0700
TZOFFSETTO:-0800
TZNAME:PST
DTSTART:20211107T090000
END:STANDARD
BEGIN:DAYLIGHT
TZOFFSETFROM:-0800
TZOFFSETTO:-0700
TZNAME:PDT
DTSTART:20220313T100000
END:DAYLIGHT
BEGIN:STANDARD
TZOFFSETFROM:-0700
TZOFFSETTO:-0800
TZNAME:PST
DTSTART:20221106T090000
END:STANDARD
END:VTIMEZONE
BEGIN:VEVENT
DTSTART;TZID=America/Vancouver:20210921T103000
DTEND;TZID=America/Vancouver:20210921T120000
DTSTAMP:20260420T014526
CREATED:20210830T175213Z
LAST-MODIFIED:20211029T192814Z
UID:8321-1632220200-1632225600@bccrns.ca
SUMMARY:Provincial Learning Event - The Energy Conservation Assistance Program Community Partners Offer: Helping Income Qualified Households Live More Comfortably
DESCRIPTION:September 21\, 2021: The Energy Conservation Assistance Program Community Partners Offer: Helping Income Qualified Households Live More Comfortably presented by Kathleen Dixon\, Conservation and Energy Management Team\, FortisBC \nRegistration is now open for this session. \nJoin us for our first Provincial Learning Event after summer hiatus! \nThis presentation is best suited to individuals and teams of community-based organizations and non-profits. \nSession participants will: \n\nReceive an introduction to the Energy Conservation Assistance Program (ECAP) for Income-Qualified Households\, including information about the free products and services qualified could households receive.\nLearn more about the benefits of the ECAP Community Partners Offer.\nUnderstand how to help clients save money on utility bills and make their homes more comfortable during the hot and cold months\, all while conserving energy.\nDiscuss ideas for educating social service organization clients about the ECAP.\n\nBC CRN is partnering with BC Hydro and FortisBC to support communities and community partners in implementing the ECAP province-wide by helping to distribute registration forms. \nKathleen Dixon is a program administrator with FortisBC’s Conservation and Energy Management team. Over the past two years\, she has been working with social service organizations to help income-qualified households live more comfortably through various energy conservation assistance programs. She is passionate about the Energy Conservation Assistance Program: Community Partners Offer because it helps to support vulnerable households and community social service organizations. \nProvincial Learning Events are free webinars that take place the third Tuesday of the month from 10:30 am to 12 pm. Everyone is welcome. \nFollow us on Facebook or Twitter\, or email us to receive notifications of upcoming webinars and to receive advance registration information. \n  \n  \n  \n  \n  \n  \n  \n 
URL:https://bccrns.ca/event/provincial-learning-event
CATEGORIES:Provincial Learning,Featured
END:VEVENT
END:VCALENDAR