BEGIN:VCALENDAR
VERSION:2.0
PRODID:-//BC Association of Community Response Networks - ECPv6.15.18//NONSGML v1.0//EN
CALSCALE:GREGORIAN
METHOD:PUBLISH
X-ORIGINAL-URL:https://bccrns.ca
X-WR-CALDESC:Events for BC Association of Community Response Networks
REFRESH-INTERVAL;VALUE=DURATION:PT1H
X-Robots-Tag:noindex
X-PUBLISHED-TTL:PT1H
BEGIN:VTIMEZONE
TZID:America/Vancouver
BEGIN:DAYLIGHT
TZOFFSETFROM:-0800
TZOFFSETTO:-0700
TZNAME:PDT
DTSTART:20200308T100000
END:DAYLIGHT
BEGIN:STANDARD
TZOFFSETFROM:-0700
TZOFFSETTO:-0800
TZNAME:PST
DTSTART:20201101T090000
END:STANDARD
BEGIN:DAYLIGHT
TZOFFSETFROM:-0800
TZOFFSETTO:-0700
TZNAME:PDT
DTSTART:20210314T100000
END:DAYLIGHT
BEGIN:STANDARD
TZOFFSETFROM:-0700
TZOFFSETTO:-0800
TZNAME:PST
DTSTART:20211107T090000
END:STANDARD
BEGIN:DAYLIGHT
TZOFFSETFROM:-0800
TZOFFSETTO:-0700
TZNAME:PDT
DTSTART:20220313T100000
END:DAYLIGHT
BEGIN:STANDARD
TZOFFSETFROM:-0700
TZOFFSETTO:-0800
TZNAME:PST
DTSTART:20221106T090000
END:STANDARD
END:VTIMEZONE
BEGIN:VEVENT
DTSTART;TZID=America/Vancouver:20210226T130000
DTEND;TZID=America/Vancouver:20210226T150000
DTSTAMP:20260423T031723
CREATED:20210213T012504Z
LAST-MODIFIED:20210213T012633Z
UID:6453-1614344400-1614351600@bccrns.ca
SUMMARY:Elder & Senior Abuse Prevention Workshop - Vancouver Indigenous CRN
DESCRIPTION:Elder & Senior Abuse Prevention Workshop hosted by the Vancouver Indigenous Community Response Network. \nIndigenous and Metis Elders and Seniors are invited to join us online to share and discuss.  We will talk about ageism\, the signs & risk factors of adult abuse and keeping each other safe. \nSign up online or email PAFNWworkshops@gmail.com for more information.
URL:https://bccrns.ca/event/elder-senior-abuse-prevention-workshop
CATEGORIES:Featured
END:VEVENT
END:VCALENDAR