BEGIN:VCALENDAR
VERSION:2.0
PRODID:-//BC Association of Community Response Networks - ECPv6.15.18//NONSGML v1.0//EN
CALSCALE:GREGORIAN
METHOD:PUBLISH
X-WR-CALNAME:BC Association of Community Response Networks
X-ORIGINAL-URL:https://bccrns.ca
X-WR-CALDESC:Events for BC Association of Community Response Networks
REFRESH-INTERVAL;VALUE=DURATION:PT1H
X-Robots-Tag:noindex
X-PUBLISHED-TTL:PT1H
BEGIN:VTIMEZONE
TZID:America/Vancouver
BEGIN:DAYLIGHT
TZOFFSETFROM:-0800
TZOFFSETTO:-0700
TZNAME:PDT
DTSTART:20200308T100000
END:DAYLIGHT
BEGIN:STANDARD
TZOFFSETFROM:-0700
TZOFFSETTO:-0800
TZNAME:PST
DTSTART:20201101T090000
END:STANDARD
BEGIN:DAYLIGHT
TZOFFSETFROM:-0800
TZOFFSETTO:-0700
TZNAME:PDT
DTSTART:20210314T100000
END:DAYLIGHT
BEGIN:STANDARD
TZOFFSETFROM:-0700
TZOFFSETTO:-0800
TZNAME:PST
DTSTART:20211107T090000
END:STANDARD
BEGIN:DAYLIGHT
TZOFFSETFROM:-0800
TZOFFSETTO:-0700
TZNAME:PDT
DTSTART:20220313T100000
END:DAYLIGHT
BEGIN:STANDARD
TZOFFSETFROM:-0700
TZOFFSETTO:-0800
TZNAME:PST
DTSTART:20221106T090000
END:STANDARD
END:VTIMEZONE
BEGIN:VEVENT
DTSTART;TZID=America/Vancouver:20210224T130000
DTEND;TZID=America/Vancouver:20210224T143000
DTSTAMP:20260423T031601
CREATED:20210219T193735Z
LAST-MODIFIED:20210219T193736Z
UID:6514-1614171600-1614177000@bccrns.ca
SUMMARY:It's Not Right! Community Presentation
DESCRIPTION:It’s Not Right! Community Presentation\, hosted by the West End Seniors’ Network. \nAdult abuse is a serious problem in Canada. Neighbours\, friends\, and family members are first to see warning signs\, but often don’t know what to do about it. \nIt’s Not Right! is a presentation intended to educate and engage all Canadians on the issue of older adult abuse and neglect. After this presentation\, you will: \n• Recognize warning signs and risk factors of adult abuse and neglect. \n• Learn small\, practical steps that add up\, and make a difference in a life\, and in the community where you live! \nLet’s work together to create a community where everyone feels safe\, respected\, valued\, and supported. \nRegister now!
URL:https://bccrns.ca/event/its-not-right-community-presentation
CATEGORIES:Featured
END:VEVENT
END:VCALENDAR